BEGIN:VCALENDAR
VERSION:2.0
PRODID:-//Library Market//iCal Export//EN
BEGIN:VEVENT
SUMMARY:Make a Mountain Dulcimer
UID:19908
DTSTAMP:20260420T015600Z
DTSTART:20260612T233000Z
DTEND:20260613T013000Z
LOCATION:Art Studio at Children&#039;s Park, 852 4th Ave, Sioux Center, IA
  51250, United States
ROOM: Outreach/Offsite
DESCRIPTION:Gary Vander Hart has taught hundreds of teens and adults how t
 o make a Mountain Dulcimer.He will get the shell ready before the first cl
 ass. Participants will finish making the instrument, including sanding and
  varnishing. On the last day, lessons will be given on how to play the ins
 trumentRegister Here: https://www.siouxcenterarts.org/programs/services#A
 dultClassesLimited to 12 people. Ages 7th grade-adultsCost: $100
URL:https://siouxcenterlibrary.librarycalendar.com/event/make-mountain-dul
 cimer-19908
END:VEVENT
END:VCALENDAR
